BEGIN:VCALENDAR
VERSION:2.0
PRODID:-//St Pauls Anglican Church - ECPv5.4.0//NONSGML v1.0//EN
CALSCALE:GREGORIAN
METHOD:PUBLISH
X-WR-CALNAME:St Pauls Anglican Church
X-ORIGINAL-URL:https://stpaulstamworth.org.au
X-WR-CALDESC:Events for St Pauls Anglican Church
BEGIN:VTIMEZONE
TZID:Australia/Sydney
BEGIN:STANDARD
TZOFFSETFROM:+1100
TZOFFSETTO:+1000
TZNAME:AEST
DTSTART:20210403T160000
END:STANDARD
BEGIN:DAYLIGHT
TZOFFSETFROM:+1000
TZOFFSETTO:+1100
TZNAME:AEDT
DTSTART:20211002T160000
END:DAYLIGHT
END:VTIMEZONE
BEGIN:VEVENT
DTSTART;TZID=Australia/Sydney:20210226T100000
DTEND;TZID=Australia/Sydney:20210226T133000
DTSTAMP:20210301T100650
CREATED:20210220T213839Z
LAST-MODIFIED:20210220T213839Z
UID:3918-1614333600-1614346200@stpaulstamworth.org.au
SUMMARY:'Light at the End of the Tunnel' - an MU conference (Streamed)
DESCRIPTION:3 speakers on ‘The Bible Gives Hope’\, ‘God’s Agenda for our Times’ and ‘Living Faith in front of our Children’ RSVP Tuesday 23rd February Liz Parker
URL:https://stpaulstamworth.org.au/stpauls-event/light-at-the-end-of-the-tunnel-an-mu-conference-streamed/
LOCATION:St Pauls Anglican Church\, 18 Church Street\, Tamworth\, NSW\, 2340\, Australia
END:VEVENT
END:VCALENDAR